BEGIN:VCALENDAR
VERSION:2.0
PRODID:-//Tukios.com/
BEGIN:VEVENT
UID:7f052e97-7894-424d-b0cc-7bc69f7e833c@www.mcdougalfuneralhomes.com
DTSTAMP:20260424T232421Z
DTSTART:20260502T000000Z
DTEND:20260502T020000Z
SUMMARY:Public Viewing
DESCRIPTION:
URL:https://www.mcdougalfuneralhomes.com/obituaries/thaylon-davis
LOCATION:Church of Jesus Christ of Latter-day Saints Building 7337 S 
	Grizzly Way  West Jordan UT 84081
GEO:40.6171695;-112.0138301
END:VEVENT
END:VCALENDAR