BEGIN:VCALENDAR
VERSION:2.0
PRODID:-//Tukios.com/
BEGIN:VEVENT
UID:00fa9980-8bfc-4928-bbb3-1c6362711945@www.mcdougalfuneralhomes.com
DTSTAMP:20260424T232404Z
DTSTART:20260502T153000Z
DTEND:20260502T164500Z
SUMMARY:Public Viewing
DESCRIPTION:
URL:https://www.mcdougalfuneralhomes.com/obituaries/thaylon-davis
LOCATION:Church of Jesus Christ of Latter-day Saints Building 7337 S 
	Grizzly Way  West Jordan UT 84081
GEO:40.6171695;-112.0138301
END:VEVENT
END:VCALENDAR