BEGIN:VCALENDAR
VERSION:2.0
PRODID:-//Tukios.com/
BEGIN:VEVENT
UID:ffe74df0-360b-4b15-8542-c0f4bbcb1d48@www.mcdougalfuneralhomes.com
DTSTAMP:20260424T232733Z
DTSTART:20260502T170000Z
DTEND:20260502T180000Z
SUMMARY:Funeral Service
DESCRIPTION:
URL:https://www.mcdougalfuneralhomes.com/obituaries/thaylon-davis
LOCATION:Church of Jesus Christ of Latter-day Saints Building 7337 S 
	Grizzly Way  West Jordan UT 84081
GEO:40.6171695;-112.0138301
END:VEVENT
END:VCALENDAR