BEGIN:VCALENDAR
VERSION:2.0
PRODID:-//Tukios.com/
BEGIN:VEVENT
UID:44a7e88f-6201-4f9e-a703-f174c6e5f0e8@www.mcdougalfuneralhomes.com
DTSTAMP:20260421T000507Z
DTSTART:20260425T000000Z
DTEND:20260425T020000Z
SUMMARY:Visitation
DESCRIPTION:
URL:https://www.mcdougalfuneralhomes.com/obituaries/curtis-ford
LOCATION:McDougal Funeral Home - Chapel 4330 S. Redwood Rd.  Taylorsville 
	UT 84123
GEO:40.6766971;-111.9395061
END:VEVENT
END:VCALENDAR