BEGIN:VCALENDAR
VERSION:2.0
PRODID:-//Tukios.com/
BEGIN:VEVENT
UID:e78db83c-b445-4b28-819b-725ea775617e@www.mcdougalfuneralhomes.com
DTSTAMP:20260421T000920Z
DTSTART:20260425T160000Z
DTEND:20260425T164500Z
SUMMARY:Visitation
DESCRIPTION:
URL:https://www.mcdougalfuneralhomes.com/obituaries/curtis-ford
LOCATION:Harvest Park Ward 3671 South Oldham Street  West Valley City UT 
	84120
GEO:40.6927572;-111.9897885
END:VEVENT
END:VCALENDAR