BEGIN:VCALENDAR
VERSION:2.0
PRODID:-//Tukios.com/
BEGIN:VEVENT
UID:f1e3488b-7bcc-4e45-9a1b-c918c988c21b@www.mcdougalfuneralhomes.com
DTSTAMP:20260421T000726Z
DTSTART:20260425T170000Z
DTEND:20260425T180000Z
SUMMARY:Funeral Service
DESCRIPTION:
URL:https://www.mcdougalfuneralhomes.com/obituaries/curtis-ford
LOCATION:Harvest Park Ward 3671 South Oldham Street  West Valley City UT 
	84120
GEO:40.6927572;-111.9897885
END:VEVENT
END:VCALENDAR