BEGIN:VCALENDAR
VERSION:2.0
PRODID:-//Tukios.com/
BEGIN:VEVENT
UID:cd5002e4-20a5-434a-9a2d-6f3774b4c0b7@www.mcdougalfuneralhomes.com
DTSTAMP:20260423T190559Z
DTSTART:20260501T190000Z
DTEND:20260501T201500Z
SUMMARY:Funeral Service
DESCRIPTION:
URL:https://www.mcdougalfuneralhomes.com/obituaries/beverly-uriarte
LOCATION:Heritage Park 19th Ward 2030 Chateau Avenue  Taylorsville UT 
	84123
GEO:40.6568435;-111.9452736
END:VEVENT
END:VCALENDAR