BEGIN:VCALENDAR
VERSION:2.0
PRODID:-//Tukios.com/
BEGIN:VEVENT
UID:c69a3655-a576-4d3e-8a97-46d661c50baf@www.mcdougalfuneralhomes.com
DTSTAMP:20260423T190132Z
DTSTART:20260501T180000Z
DTEND:20260501T184500Z
SUMMARY:Public Viewing
DESCRIPTION:
URL:https://www.mcdougalfuneralhomes.com/obituaries/beverly-uriarte
LOCATION:Heritage Park 19th Ward 2030 Chateau Avenue  Taylorsville UT 
	84123
GEO:40.6568435;-111.9452736
END:VEVENT
END:VCALENDAR