BEGIN:VCALENDAR
VERSION:2.0
PRODID:-//Tukios.com/
BEGIN:VEVENT
UID:efce95da-5fd9-4b3e-bd56-8939dcf66d68@www.mcdougalfuneralhomes.com
DTSTAMP:20260422T200342Z
DTSTART:20260427T153000Z
DTEND:20260427T164500Z
SUMMARY:Public Viewing
DESCRIPTION:
URL:https://www.mcdougalfuneralhomes.com/obituaries/arthur-brewer
LOCATION:Heritage Park Gardens Ward 4252 South Bennion Road  Taylorsville 
	UT 
GEO:40.6785271;-111.9433995
END:VEVENT
END:VCALENDAR