BEGIN:VCALENDAR
VERSION:2.0
PRODID:-//Tukios.com/
BEGIN:VEVENT
UID:6adfd836-2db8-4831-a6b6-584edcc17cd1@www.mcdougalfuneralhomes.com
DTSTAMP:20260422T201326Z
DTSTART:20260427T170000Z
DTEND:20260427T180000Z
SUMMARY:Funeral Service
DESCRIPTION:
URL:https://www.mcdougalfuneralhomes.com/obituaries/arthur-brewer
LOCATION:Heritage Park Gardens Ward 4252 South Bennion Road  Taylorsville 
	UT 
GEO:40.6785271;-111.9433995
END:VEVENT
END:VCALENDAR