BEGIN:VCALENDAR
VERSION:2.0
PRODID:-//Tukios.com/
BEGIN:VEVENT
UID:f8bf90f3-b745-49d4-a383-a956c6276cea@www.mcdougalfuneralhomes.com
DTSTAMP:20260420T221836Z
DTSTART:20260424T000000Z
DTEND:20260424T020000Z
SUMMARY:Public Viewing
DESCRIPTION:
URL:https://www.mcdougalfuneralhomes.com/obituaries/ardene-bouck
LOCATION:McDougal Funeral Home 4330 S. Redwood Rd.  Taylorsville UT 84123
GEO:40.6766971;-111.9395061
END:VEVENT
END:VCALENDAR