BEGIN:VCALENDAR
VERSION:2.0
PRODID:-//Tukios.com/
BEGIN:VEVENT
UID:92e58f8d-4e25-4756-8cff-dff9adf9cbce@www.mcdougalfuneralhomes.com
DTSTAMP:20260420T221804Z
DTSTART:20260424T190000Z
DTEND:20260424T194500Z
SUMMARY:Public Viewing
DESCRIPTION:
URL:https://www.mcdougalfuneralhomes.com/obituaries/ardene-bouck
LOCATION:McDougal Funeral Home 4330 S. Redwood Rd.  Taylorsville UT 84123
GEO:40.6766971;-111.9395061
END:VEVENT
END:VCALENDAR