BEGIN:VCALENDAR
VERSION:2.0
PRODID:-//Tukios.com/
BEGIN:VEVENT
UID:0c14c8c7-e280-46c9-b1a9-b7c720168ef3@www.mcdougalfuneralhomes.com
DTSTAMP:20260420T221933Z
DTSTART:20260424T200000Z
DTEND:20260424T210000Z
SUMMARY:Funeral Service
DESCRIPTION:
URL:https://www.mcdougalfuneralhomes.com/obituaries/ardene-bouck
LOCATION:McDougal Funeral Home 4330 S. Redwood Rd.  Taylorsville UT 84123
GEO:40.6766971;-111.9395061
END:VEVENT
END:VCALENDAR